Package: cytolib Version: 2.14.1 Command: rm -rf cytolib.buildbin-libdir && mkdir cytolib.buildbin-libdir && F:\biocbuild\bbs-3.18-bioc\R\bin\R.exe CMD INSTALL --build --library=cytolib.buildbin-libdir cytolib_2.14.1.tar.gz StartedAt: 2024-04-16 06:52:58 -0400 (Tue, 16 Apr 2024) EndedAt: 2024-04-16 06:56:57 -0400 (Tue, 16 Apr 2024) EllapsedTime: 238.5 seconds RetCode: 0 Status: OK PackageFile: cytolib_2.14.1.zip PackageFileSize: 4.868 MiB