Package: cytolib Version: 2.14.0 Command: /home/biocbuild/R/R-4.3.1/bin/R CMD check --install=check:cytolib.install-out.txt --library=/home/biocbuild/R/R-4.3.1/site-library --no-vignettes --timings cytolib_2.14.0.tar.gz StartedAt: 2023-11-02 09:45:09 -0000 (Thu, 02 Nov 2023) EndedAt: 2023-11-02 09:45:28 -0000 (Thu, 02 Nov 2023) EllapsedTime: 19.0 seconds RetCode: 0 Status: WARNINGS CheckDir: cytolib.Rcheck Warnings: 1