Package: cytofQC Version: 1.2.0 Command: /home/biocbuild/bbs-3.18-bioc/R/bin/R CMD build --keep-empty-dirs --no-resave-data cytofQC StartedAt: 2024-04-15 16:41:46 -0400 (Mon, 15 Apr 2024) EndedAt: 2024-04-15 16:43:06 -0400 (Mon, 15 Apr 2024) EllapsedTime: 80.0 seconds RetCode: 0 Status: OK PackageFile: cytofQC_1.2.0.tar.gz PackageFileSize: 1.477 MiB