Package: cytofQC Version: 1.2.0 Command: rm -rf cytofQC.buildbin-libdir && mkdir cytofQC.buildbin-libdir && /Users/biocbuild/BBS/utils/build-universal.sh cytofQC_1.2.0.tar.gz /Library/Frameworks/R.framework/Resources/bin/R cytofQC.buildbin-libdir StartedAt: 2024-04-16 11:25:04 -0400 (Tue, 16 Apr 2024) EndedAt: 2024-04-16 11:27:01 -0400 (Tue, 16 Apr 2024) EllapsedTime: 117.2 seconds RetCode: 0 Status: OK PackageFile: cytofQC_1.2.0.tgz PackageFileSize: 1.658 MiB