Package: cytofQC Version: 1.2.0 Command: /Library/Frameworks/R.framework/Resources/bin/R CMD check --install=check:cytofQC.install-out.txt --library=/Library/Frameworks/R.framework/Resources/library --no-vignettes --timings cytofQC_1.2.0.tar.gz StartedAt: 2024-03-03 19:59:38 -0500 (Sun, 03 Mar 2024) EndedAt: 2024-03-03 20:06:02 -0500 (Sun, 03 Mar 2024) EllapsedTime: 383.7 seconds RetCode: 0 Status: OK CheckDir: cytofQC.Rcheck Warnings: 0