Package: cytofQC Version: 1.2.0 Command: rm -rf cytofQC.buildbin-libdir && mkdir cytofQC.buildbin-libdir && /Users/biocbuild/BBS/utils/build-universal.sh cytofQC_1.2.0.tar.gz /Library/Frameworks/R.framework/Resources/bin/R cytofQC.buildbin-libdir StartedAt: 2024-03-04 00:36:48 -0500 (Mon, 04 Mar 2024) EndedAt: 2024-03-04 00:37:39 -0500 (Mon, 04 Mar 2024) EllapsedTime: 51.4 seconds RetCode: 0 Status: OK PackageFile: cytofQC_1.2.0.tgz PackageFileSize: 1.593 MiB