Package: cytoKernel Version: 1.8.0 Command: /home/biocbuild/bbs-3.18-bioc/R/bin/R CMD build --keep-empty-dirs --no-resave-data cytoKernel StartedAt: 2024-04-15 16:41:51 -0400 (Mon, 15 Apr 2024) EndedAt: 2024-04-15 16:42:38 -0400 (Mon, 15 Apr 2024) EllapsedTime: 46.9 seconds RetCode: 0 Status: OK PackageFile: cytoKernel_1.8.0.tar.gz PackageFileSize: 691.7 KiB