Package: cytoKernel Version: 1.8.0 Command: rm -rf cytoKernel.buildbin-libdir && mkdir cytoKernel.buildbin-libdir && /Users/biocbuild/BBS/utils/build-universal.sh cytoKernel_1.8.0.tar.gz /Library/Frameworks/R.framework/Resources/bin/R cytoKernel.buildbin-libdir StartedAt: 2024-04-16 11:25:13 -0400 (Tue, 16 Apr 2024) EndedAt: 2024-04-16 11:27:10 -0400 (Tue, 16 Apr 2024) EllapsedTime: 117.1 seconds RetCode: 0 Status: OK PackageFile: cytoKernel_1.8.0.tgz PackageFileSize: 833.8 KiB