Package: cytoKernel Version: 1.8.0 Command: /home/biocbuild/R/R-4.3.1/bin/R CMD INSTALL cytoKernel StartedAt: 2023-11-01 20:26:34 -0000 (Wed, 01 Nov 2023) EndedAt: 2023-11-01 20:27:26 -0000 (Wed, 01 Nov 2023) EllapsedTime: 51.7 seconds RetCode: 0 Status: OK