Package: cycle Version: 1.56.0 Command: rm -rf cycle.buildbin-libdir && mkdir cycle.buildbin-libdir && F:\biocbuild\bbs-3.18-bioc\R\bin\R.exe CMD INSTALL --build --library=cycle.buildbin-libdir cycle_1.56.0.tar.gz StartedAt: 2024-04-16 06:52:41 -0400 (Tue, 16 Apr 2024) EndedAt: 2024-04-16 06:52:49 -0400 (Tue, 16 Apr 2024) EllapsedTime: 8.5 seconds RetCode: 0 Status: OK PackageFile: cycle_1.56.0.zip PackageFileSize: 126 KiB