Package: cycle Version: 1.56.0 Command: /home/biocbuild/R/R-4.3.1/bin/R CMD INSTALL cycle StartedAt: 2023-11-01 20:10:24 -0000 (Wed, 01 Nov 2023) EndedAt: 2023-11-01 20:10:29 -0000 (Wed, 01 Nov 2023) EllapsedTime: 4.4 seconds RetCode: 0 Status: OK