Package: cycle Version: 1.56.0 Command: /home/biocbuild/R/R-4.3.1/bin/R CMD build --keep-empty-dirs --no-resave-data cycle StartedAt: 2023-11-01 23:55:28 -0000 (Wed, 01 Nov 2023) EndedAt: 2023-11-01 23:55:59 -0000 (Wed, 01 Nov 2023) EllapsedTime: 31.0 seconds RetCode: 0 Status: OK PackageFile: cycle_1.56.0.tar.gz PackageFileSize: 241.2 KiB