Package: cyanoFilter Version: 1.10.0 Maintainer: Oluwafemi Olusoji MaintainerEmail: oluwafemi.olusoji at uhasselt.be git_url: https://git.bioconductor.org/packages/cyanoFilter git_branch: RELEASE_3_18 git_last_commit: ccfe340 git_last_commit_date: 2023-10-24 11:31:46 -0400 (Tue, 24 Oct 2023)