Package: customCMPdb Version: 1.12.0 Command: rm -rf customCMPdb.buildbin-libdir && mkdir customCMPdb.buildbin-libdir && /Users/biocbuild/BBS/utils/build-universal.sh customCMPdb_1.12.0.tar.gz /Library/Frameworks/R.framework/Resources/bin/R customCMPdb.buildbin-libdir StartedAt: 2024-03-04 00:36:42 -0500 (Mon, 04 Mar 2024) EndedAt: 2024-03-04 00:37:09 -0500 (Mon, 04 Mar 2024) EllapsedTime: 27.2 seconds RetCode: 0 Status: OK PackageFile: customCMPdb_1.12.0.tgz PackageFileSize: 720.8 KiB