Package: ctsGE Version: 1.28.0 Command: /home/biocbuild/R/R-4.3.1/bin/R CMD build --keep-empty-dirs --no-resave-data ctsGE StartedAt: 2023-11-01 23:54:22 -0000 (Wed, 01 Nov 2023) EndedAt: 2023-11-01 23:54:51 -0000 (Wed, 01 Nov 2023) EllapsedTime: 29.0 seconds RetCode: 0 Status: OK PackageFile: ctsGE_1.28.0.tar.gz PackageFileSize: 1.1 MiB