Package: csaw Version: 1.36.1 Command: /Library/Frameworks/R.framework/Resources/bin/R CMD INSTALL csaw StartedAt: 2024-04-15 15:26:59 -0400 (Mon, 15 Apr 2024) EndedAt: 2024-04-15 15:30:19 -0400 (Mon, 15 Apr 2024) EllapsedTime: 199.6 seconds RetCode: 0 Status: OK