Package: csaw Version: 1.36.1 Command: /Library/Frameworks/R.framework/Resources/bin/R CMD INSTALL csaw StartedAt: 2024-03-03 15:13:09 -0500 (Sun, 03 Mar 2024) EndedAt: 2024-03-03 15:15:02 -0500 (Sun, 03 Mar 2024) EllapsedTime: 113.2 seconds RetCode: 0 Status: OK