Package: crossmeta Version: 1.28.0 Command: /Library/Frameworks/R.framework/Resources/bin/R CMD INSTALL crossmeta StartedAt: 2024-04-15 16:09:51 -0400 (Mon, 15 Apr 2024) EndedAt: 2024-04-15 16:10:47 -0400 (Mon, 15 Apr 2024) EllapsedTime: 56.0 seconds RetCode: 0 Status: OK