Package: crossmeta Version: 1.28.0 Command: /Library/Frameworks/R.framework/Resources/bin/R CMD build --keep-empty-dirs --no-resave-data crossmeta StartedAt: 2024-04-15 17:59:20 -0400 (Mon, 15 Apr 2024) EndedAt: 2024-04-15 18:03:33 -0400 (Mon, 15 Apr 2024) EllapsedTime: 252.6 seconds RetCode: 0 Status: OK PackageFile: crossmeta_1.28.0.tar.gz PackageFileSize: 2.951 MiB