Package: crossmeta Version: 1.28.0 Command: rm -rf crossmeta.buildbin-libdir && mkdir crossmeta.buildbin-libdir && /Users/biocbuild/BBS/utils/build-universal.sh crossmeta_1.28.0.tar.gz /Library/Frameworks/R.framework/Resources/bin/R crossmeta.buildbin-libdir StartedAt: 2024-04-16 11:23:39 -0400 (Tue, 16 Apr 2024) EndedAt: 2024-04-16 11:24:16 -0400 (Tue, 16 Apr 2024) EllapsedTime: 36.5 seconds RetCode: 0 Status: OK PackageFile: crossmeta_1.28.0.tgz PackageFileSize: 2.772 MiB