Package: crossmeta Version: 1.28.0 Command: rm -rf crossmeta.buildbin-libdir && mkdir crossmeta.buildbin-libdir && /Users/biocbuild/BBS/utils/build-universal.sh crossmeta_1.28.0.tar.gz /Library/Frameworks/R.framework/Resources/bin/R crossmeta.buildbin-libdir StartedAt: 2024-03-04 00:36:22 -0500 (Mon, 04 Mar 2024) EndedAt: 2024-03-04 00:36:42 -0500 (Mon, 04 Mar 2024) EllapsedTime: 20.2 seconds RetCode: 0 Status: OK PackageFile: crossmeta_1.28.0.tgz PackageFileSize: 2.771 MiB