Package: crlmm Version: 1.60.0 Command: rm -rf crlmm.buildbin-libdir && mkdir crlmm.buildbin-libdir && F:\biocbuild\bbs-3.18-bioc\R\bin\R.exe CMD INSTALL --build --library=crlmm.buildbin-libdir crlmm_1.60.0.tar.gz StartedAt: 2024-04-16 06:52:04 -0400 (Tue, 16 Apr 2024) EndedAt: 2024-04-16 06:53:09 -0400 (Tue, 16 Apr 2024) EllapsedTime: 64.9 seconds RetCode: 0 Status: OK PackageFile: crlmm_1.60.0.zip PackageFileSize: 5.031 MiB