Package: crisprseekplus Version: 1.28.0 Command: chmod a+r crisprseekplus -R && F:\biocbuild\bbs-3.18-bioc\R\bin\R.exe CMD build --keep-empty-dirs --no-resave-data crisprseekplus StartedAt: 2024-04-15 17:48:30 -0400 (Mon, 15 Apr 2024) EndedAt: 2024-04-15 17:49:25 -0400 (Mon, 15 Apr 2024) EllapsedTime: 55.2 seconds RetCode: 0 Status: OK PackageFile: crisprseekplus_1.28.0.tar.gz PackageFileSize: 320.6 KiB