Package: crisprScore Version: 1.6.0 Command: F:\biocbuild\bbs-3.18-bioc\R\bin\R.exe CMD INSTALL crisprScore StartedAt: 2024-04-15 16:47:46 -0400 (Mon, 15 Apr 2024) EndedAt: 2024-04-15 16:48:23 -0400 (Mon, 15 Apr 2024) EllapsedTime: 36.5 seconds RetCode: 0 Status: OK