Package: crisprScore Version: 1.6.0 Command: /Library/Frameworks/R.framework/Resources/bin/R CMD INSTALL crisprScore StartedAt: 2024-03-03 15:46:09 -0500 (Sun, 03 Mar 2024) EndedAt: 2024-03-03 15:46:35 -0500 (Sun, 03 Mar 2024) EllapsedTime: 26.5 seconds RetCode: 0 Status: OK