Package: crisprBwa Version: 1.6.0 Command: rm -rf crisprBwa.buildbin-libdir && mkdir crisprBwa.buildbin-libdir && /Users/biocbuild/BBS/utils/build-universal.sh crisprBwa_1.6.0.tar.gz /Library/Frameworks/R.framework/Resources/bin/R crisprBwa.buildbin-libdir StartedAt: 2024-04-16 11:22:53 -0400 (Tue, 16 Apr 2024) EndedAt: 2024-04-16 11:24:34 -0400 (Tue, 16 Apr 2024) EllapsedTime: 100.3 seconds RetCode: 0 Status: OK PackageFile: crisprBwa_1.6.0.tgz PackageFileSize: 369.3 KiB