Package: crisprBwa Version: 1.6.0 Command: /Library/Frameworks/R.framework/Resources/bin/R CMD build --keep-empty-dirs --no-resave-data crisprBwa StartedAt: 2024-03-03 16:22:58 -0500 (Sun, 03 Mar 2024) EndedAt: 2024-03-03 16:23:54 -0500 (Sun, 03 Mar 2024) EllapsedTime: 56.5 seconds RetCode: 0 Status: OK PackageFile: crisprBwa_1.6.0.tar.gz PackageFileSize: 359.6 KiB