Package: crisprBwa Version: 1.6.0 Command: rm -rf crisprBwa.buildbin-libdir && mkdir crisprBwa.buildbin-libdir && /Users/biocbuild/BBS/utils/build-universal.sh crisprBwa_1.6.0.tar.gz /Library/Frameworks/R.framework/Resources/bin/R crisprBwa.buildbin-libdir StartedAt: 2024-03-04 00:36:09 -0500 (Mon, 04 Mar 2024) EndedAt: 2024-03-04 00:36:58 -0500 (Mon, 04 Mar 2024) EllapsedTime: 49.3 seconds RetCode: 0 Status: OK PackageFile: crisprBwa_1.6.0.tgz PackageFileSize: 369.3 KiB