Package: crisprBwa Version: 1.6.0 Maintainer: Jean-Philippe Fortin MaintainerEmail: fortin946 at gmail.com git_url: https://git.bioconductor.org/packages/crisprBwa git_branch: RELEASE_3_18 git_last_commit: e4775a7 git_last_commit_date: 2023-10-24 11:41:41 -0400 (Tue, 24 Oct 2023)