Package: crisprBowtie Version: 1.6.0 Command: /home/biocbuild/bbs-3.18-bioc/R/bin/R CMD build --keep-empty-dirs --no-resave-data crisprBowtie StartedAt: 2024-04-15 16:38:20 -0400 (Mon, 15 Apr 2024) EndedAt: 2024-04-15 16:39:03 -0400 (Mon, 15 Apr 2024) EllapsedTime: 43.9 seconds RetCode: 0 Status: OK PackageFile: crisprBowtie_1.6.0.tar.gz PackageFileSize: 319.3 KiB