Package: crisprBase Version: 1.6.0 Command: /Library/Frameworks/R.framework/Resources/bin/R CMD build --keep-empty-dirs --no-resave-data crisprBase StartedAt: 2024-04-15 17:57:37 -0400 (Mon, 15 Apr 2024) EndedAt: 2024-04-15 17:58:34 -0400 (Mon, 15 Apr 2024) EllapsedTime: 56.5 seconds RetCode: 0 Status: OK PackageFile: crisprBase_1.6.0.tar.gz PackageFileSize: 1.736 MiB