Package: crisprBase Version: 1.6.0 Command: /Library/Frameworks/R.framework/Resources/bin/R CMD check --install=check:crisprBase.install-out.txt --library=/Library/Frameworks/R.framework/Resources/library --no-vignettes --timings crisprBase_1.6.0.tar.gz StartedAt: 2024-03-03 19:54:30 -0500 (Sun, 03 Mar 2024) EndedAt: 2024-03-03 19:56:32 -0500 (Sun, 03 Mar 2024) EllapsedTime: 122.2 seconds RetCode: 0 Status: OK CheckDir: crisprBase.Rcheck Warnings: 0