Package: crisprBase Version: 1.6.0 Command: /Library/Frameworks/R.framework/Resources/bin/R CMD build --keep-empty-dirs --no-resave-data crisprBase StartedAt: 2024-03-03 16:22:49 -0500 (Sun, 03 Mar 2024) EndedAt: 2024-03-03 16:23:17 -0500 (Sun, 03 Mar 2024) EllapsedTime: 28.4 seconds RetCode: 0 Status: OK PackageFile: crisprBase_1.6.0.tar.gz PackageFileSize: 1.729 MiB