Package: cpvSNP Version: 1.34.0 Command: /Library/Frameworks/R.framework/Resources/bin/R CMD build --keep-empty-dirs --no-resave-data cpvSNP StartedAt: 2024-04-15 17:57:28 -0400 (Mon, 15 Apr 2024) EndedAt: 2024-04-15 17:59:40 -0400 (Mon, 15 Apr 2024) EllapsedTime: 131.7 seconds RetCode: 0 Status: OK PackageFile: cpvSNP_1.34.0.tar.gz PackageFileSize: 2.005 MiB