Package: cpvSNP Version: 1.34.0 Command: rm -rf cpvSNP.buildbin-libdir && mkdir cpvSNP.buildbin-libdir && /Users/biocbuild/BBS/utils/build-universal.sh cpvSNP_1.34.0.tar.gz /Library/Frameworks/R.framework/Resources/bin/R cpvSNP.buildbin-libdir StartedAt: 2024-04-16 11:22:34 -0400 (Tue, 16 Apr 2024) EndedAt: 2024-04-16 11:24:39 -0400 (Tue, 16 Apr 2024) EllapsedTime: 125.2 seconds RetCode: 0 Status: OK PackageFile: cpvSNP_1.34.0.tgz PackageFileSize: 2.378 MiB