Package: cpvSNP Version: 1.34.0 Command: /Library/Frameworks/R.framework/Resources/bin/R CMD build --keep-empty-dirs --no-resave-data cpvSNP StartedAt: 2024-03-03 16:22:42 -0500 (Sun, 03 Mar 2024) EndedAt: 2024-03-03 16:23:59 -0500 (Sun, 03 Mar 2024) EllapsedTime: 77.0 seconds RetCode: 0 Status: OK PackageFile: cpvSNP_1.34.0.tar.gz PackageFileSize: 2.003 MiB