Package: cpvSNP Version: 1.34.0 Command: /home/biocbuild/R/R-4.3.1/bin/R CMD build --keep-empty-dirs --no-resave-data cpvSNP StartedAt: 2023-11-01 23:48:57 -0000 (Wed, 01 Nov 2023) EndedAt: 2023-11-01 23:50:16 -0000 (Wed, 01 Nov 2023) EllapsedTime: 79.1 seconds RetCode: 0 Status: OK PackageFile: cpvSNP_1.34.0.tar.gz PackageFileSize: 1.991 MiB