Package: covRNA Version: 1.28.0 Command: /home/biocbuild/bbs-3.18-bioc/R/bin/R CMD INSTALL covRNA StartedAt: 2024-04-15 15:35:34 -0400 (Mon, 15 Apr 2024) EndedAt: 2024-04-15 15:35:52 -0400 (Mon, 15 Apr 2024) EllapsedTime: 18.0 seconds RetCode: 0 Status: OK