Package: countsimQC Version: 1.20.0 Command: /home/biocbuild/bbs-3.18-bioc/R/bin/R CMD INSTALL countsimQC StartedAt: 2024-04-15 15:35:31 -0400 (Mon, 15 Apr 2024) EndedAt: 2024-04-15 15:36:04 -0400 (Mon, 15 Apr 2024) EllapsedTime: 32.3 seconds RetCode: 0 Status: OK