Package: countsimQC Version: 1.20.0 Command: /home/biocbuild/bbs-3.18-bioc/R/bin/R CMD build --keep-empty-dirs --no-resave-data countsimQC StartedAt: 2024-04-15 16:37:47 -0400 (Mon, 15 Apr 2024) EndedAt: 2024-04-15 16:39:25 -0400 (Mon, 15 Apr 2024) EllapsedTime: 98.3 seconds RetCode: 0 Status: OK PackageFile: countsimQC_1.20.0.tar.gz PackageFileSize: 440.5 KiB