Package: countsimQC Version: 1.20.0 Command: /home/biocbuild/R/R-4.3.1/bin/R CMD check --install=check:countsimQC.install-out.txt --library=/home/biocbuild/R/R-4.3.1/site-library --no-vignettes --timings countsimQC_1.20.0.tar.gz StartedAt: 2023-11-02 09:36:44 -0000 (Thu, 02 Nov 2023) EndedAt: 2023-11-02 09:43:06 -0000 (Thu, 02 Nov 2023) EllapsedTime: 381.8 seconds RetCode: 1 Status: ERROR CheckDir: countsimQC.Rcheck Warnings: NA