Package: cosmosR Version: 1.10.0 Command: /Library/Frameworks/R.framework/Resources/bin/R CMD build --keep-empty-dirs --no-resave-data cosmosR StartedAt: 2024-03-03 16:22:07 -0500 (Sun, 03 Mar 2024) EndedAt: 2024-03-03 16:22:27 -0500 (Sun, 03 Mar 2024) EllapsedTime: 20.4 seconds RetCode: 0 Status: OK PackageFile: cosmosR_1.10.0.tar.gz PackageFileSize: 3.364 MiB