Package: cosmosR Version: 1.10.0 Command: rm -rf cosmosR.buildbin-libdir && mkdir cosmosR.buildbin-libdir && /Users/biocbuild/BBS/utils/build-universal.sh cosmosR_1.10.0.tar.gz /Library/Frameworks/R.framework/Resources/bin/R cosmosR.buildbin-libdir StartedAt: 2024-03-04 00:36:01 -0500 (Mon, 04 Mar 2024) EndedAt: 2024-03-04 00:36:14 -0500 (Mon, 04 Mar 2024) EllapsedTime: 13.5 seconds RetCode: 0 Status: OK PackageFile: cosmosR_1.10.0.tgz PackageFileSize: 3.448 MiB