Package: cosmiq Version: 1.36.0 Command: chmod a+r cosmiq -R && F:\biocbuild\bbs-3.18-bioc\R\bin\R.exe CMD build --keep-empty-dirs --no-resave-data cosmiq StartedAt: 2024-04-15 17:47:08 -0400 (Mon, 15 Apr 2024) EndedAt: 2024-04-15 17:49:47 -0400 (Mon, 15 Apr 2024) EllapsedTime: 159.2 seconds RetCode: 0 Status: OK PackageFile: cosmiq_1.36.0.tar.gz PackageFileSize: 541.4 KiB