Package: cosmiq Version: 1.36.0 Command: /home/biocbuild/bbs-3.18-bioc/R/bin/R CMD build --keep-empty-dirs --no-resave-data cosmiq StartedAt: 2024-04-15 16:37:29 -0400 (Mon, 15 Apr 2024) EndedAt: 2024-04-15 16:39:47 -0400 (Mon, 15 Apr 2024) EllapsedTime: 138.1 seconds RetCode: 0 Status: OK PackageFile: cosmiq_1.36.0.tar.gz PackageFileSize: 541.4 KiB