Package: cosmiq Version: 1.36.0 Command: /home/biocbuild/R/R-4.3.1/bin/R CMD build --keep-empty-dirs --no-resave-data cosmiq StartedAt: 2023-11-01 23:48:00 -0000 (Wed, 01 Nov 2023) EndedAt: 2023-11-01 23:51:10 -0000 (Wed, 01 Nov 2023) EllapsedTime: 190.3 seconds RetCode: 0 Status: OK PackageFile: cosmiq_1.36.0.tar.gz PackageFileSize: 534.7 KiB