Package: copa Version: 1.70.0 Command: /home/biocbuild/bbs-3.18-bioc/R/bin/R CMD build --keep-empty-dirs --no-resave-data copa StartedAt: 2024-04-15 16:36:09 -0400 (Mon, 15 Apr 2024) EndedAt: 2024-04-15 16:36:16 -0400 (Mon, 15 Apr 2024) EllapsedTime: 7.0 seconds RetCode: 0 Status: OK PackageFile: copa_1.70.0.tar.gz PackageFileSize: 121.1 KiB