Package: convert Version: 1.78.0 Command: chmod a+r convert -R && F:\biocbuild\bbs-3.18-bioc\R\bin\R.exe CMD build --keep-empty-dirs --no-resave-data convert StartedAt: 2024-04-15 17:45:46 -0400 (Mon, 15 Apr 2024) EndedAt: 2024-04-15 17:45:57 -0400 (Mon, 15 Apr 2024) EllapsedTime: 10.6 seconds RetCode: 0 Status: OK PackageFile: convert_1.78.0.tar.gz PackageFileSize: 50.31 KiB