Package: convert Version: 1.78.0 Command: rm -rf convert.buildbin-libdir && mkdir convert.buildbin-libdir && /Users/biocbuild/BBS/utils/build-universal.sh convert_1.78.0.tar.gz /Library/Frameworks/R.framework/Resources/bin/R convert.buildbin-libdir StartedAt: 2024-04-16 11:21:31 -0400 (Tue, 16 Apr 2024) EndedAt: 2024-04-16 11:21:56 -0400 (Tue, 16 Apr 2024) EllapsedTime: 24.8 seconds RetCode: 0 Status: OK PackageFile: convert_1.78.0.tgz PackageFileSize: 182.1 KiB