Package: convert Version: 1.78.0 Command: /Library/Frameworks/R.framework/Resources/bin/R CMD INSTALL convert StartedAt: 2024-03-03 15:07:28 -0500 (Sun, 03 Mar 2024) EndedAt: 2024-03-03 15:08:02 -0500 (Sun, 03 Mar 2024) EllapsedTime: 34.2 seconds RetCode: 0 Status: OK